BEGIN:VCALENDAR
VERSION:2.0
PRODID:icalendar-ruby
CALSCALE:GREGORIAN
METHOD:PUBLISH
BEGIN:VEVENT
DTSTAMP:20260421T164504Z
UID:18-517447@roselleunited.tithelysetup5.com
DTSTART:20260820T001500Z
DTEND:20260820T011500Z
CLASS:PUBLIC
CREATED:20260421T100006
DESCRIPTION:Chancel Choir will rehearse in the practice room. Contact Holle
 y McKee for details.
LAST-MODIFIED:20260421T100006
LOCATION:
SUMMARY:Chancel Choir Rehearsal
URL;VALUE=URI:https://www.roselleumc.org/events/chancel-choir-rehearsal--18
 /2026-08-19
ATTACH;FILENAME=website-images-%282%29.jpg;FMTTYPE=image/jpeg:https://dq5pw
 pg1q8ru0.cloudfront.net/2026/01/05/20/48/00/5d718f00-84d5-418e-b7e5-355042
 b27be5/website-images-%25282%2529.jpg
END:VEVENT
END:VCALENDAR
